BEGIN:VCALENDAR

VERSION:2.0

PRODID:-//hacksw/handcal//NONSGML v1.0//EN

BEGIN:VEVENT

UID:a7c04f75f392e9b746bee0474e305bd5

DTSTAMP:20260422T080417Z

DTSTART:20260422T170000

DTEND:20260422T173000

SUMMARY:L30423292 - 12 Medland Court, BUNDALL QLD 4217

LOCATION:12 Medland Court, BUNDALL QLD 4217

END:VEVENT

END:VCALENDAR