BEGIN:VCALENDAR

VERSION:2.0

PRODID:-//hacksw/handcal//NONSGML v1.0//EN

BEGIN:VEVENT

UID:e86a78a7a198f9999845fcdcac766cd1

DTSTAMP:20260420T040056Z

DTSTART:20260423T160000

DTEND:20260423T163000

SUMMARY:L39765844 - 501/215 Boundary Street, COOLANGATTA QLD 4225

LOCATION:501/215 Boundary Street, COOLANGATTA QLD 4225

END:VEVENT

END:VCALENDAR